BEGIN:VCALENDAR
VERSION:2.0
PRODID:-//Shelley Fairweather-Vega - ECPv6.15.18//NONSGML v1.0//EN
CALSCALE:GREGORIAN
METHOD:PUBLISH
X-WR-CALNAME:Shelley Fairweather-Vega
X-ORIGINAL-URL:https://fairvega.com
X-WR-CALDESC:Events for Shelley Fairweather-Vega
REFRESH-INTERVAL;VALUE=DURATION:PT1H
X-Robots-Tag:noindex
X-PUBLISHED-TTL:PT1H
BEGIN:VTIMEZONE
TZID:UTC
BEGIN:STANDARD
TZOFFSETFROM:+0000
TZOFFSETTO:+0000
TZNAME:UTC
DTSTART:20240101T000000
END:STANDARD
END:VTIMEZONE
BEGIN:VEVENT
DTSTART;TZID=UTC:20251029T080000
DTEND;TZID=UTC:20251124T170000
DTSTAMP:20260421T105146
CREATED:20251016T190318Z
LAST-MODIFIED:20251028T162100Z
UID:6613-1761724800-1764003600@fairvega.com
SUMMARY:2025 Hamid Ismailov American tour
DESCRIPTION:Uzbekistan’s most famous author in exile\, Hamid Ismailov\, is touring the United States this fall to promote his newest book in English\, the National Book Award finalist We Computers: A Ghazal Novel. \n  \nMost of these events are free and open to the public. A few require registration or a ticket. Visit the links to learn more. \n  \nOct. 29\, 6:00 pm New York\, NY – Words Without Borders gala – https://wordswithoutborders.org/events/the-2025-words-without-borders-gala/ \nNov. 4\, 5:15 pm Northfield\, MN – Carleton College\, with Adeeb Khalid and Shelley Fairweather-Vega – https://www.carleton.edu/calendar/?eId=usGB \nNov 9\, 6:00 pm San Francisco\, CA – The Sycamore\,  happy hour and reading with Shelley Fairweather-Vega – https://thesycamoresf.com/events \nNov. 10\, 12:00 pm Palo Alto\, CA – Stanford University\, with Shelley Fairweather-Vega – https://dlcl.stanford.edu/events/we-computers \nNov. 12\, 4:30 pm New Haven\, CT – Yale University\, with Shelley Fairweather-Vega – https://macmillan.yale.edu/europe/central-asia-initiative/events/2025-11-12/cai-we-computers-book-talk-hamid-ismailov-and \nNov. 13\, 7:00 pm Boston\, MA – Brookline Booksmith with Shelley Fairweather-Vega and Sunil Sharma – https://brooklinebooksmith.com/event/2025-11-13/hamid-ismailov-and-shelley-fairweather-vega-sunil-sharma \nNov. 14\, 4:30 pm South Bend\, IN – University of Notre Dame with Shelley Fairweather-Vega – https://asia.nd.edu/events/2025/11/14/presentation-of-hamid-ismailovs-new-novel-we-computers/ \nNov. 17\, 4:30 pm Swarthmore\, PA – Swarthmore College with Shelley Fairweather-Vega – https://swatcentral.swarthmore.edu/?trumbaEmbed=view%3Devent%26eventid%3D1315322843 \nNov. 18\, 7:00 pm New York\, NY and online – National Book Awards Finalist Reading at NYU Skirball Center – https://as.nyu.edu/departments/cwp/reading-series/FALL-2025/2025-national-book-awards-reading.html \nNov. 19\, 8:00 pm New York\, NY and online – National Book Awards ceremony – https://www.nationalbook.org/awards2025/ \nNov. 20\, 7:30 pm Washington\, D.C. – ASEEES convention: Celebrating Central Asian and Southeast European Literature in Translation with Turkoslavia (conference registration required): https://aseees.org/convention/2025-convention/ \nNov. 22 Miami\, FL – Miami Book Fair – https://www.miamibookfair.com/ 
URL:https://fairvega.com/event/2025-hamid-ismailov-american-tour/
LOCATION:AZ
END:VEVENT
END:VCALENDAR