BEGIN:VCALENDAR
VERSION:2.0
PRODID:-//Shelley Fairweather-Vega - ECPv6.15.18//NONSGML v1.0//EN
CALSCALE:GREGORIAN
METHOD:PUBLISH
X-ORIGINAL-URL:https://fairvega.com
X-WR-CALDESC:Events for Shelley Fairweather-Vega
REFRESH-INTERVAL;VALUE=DURATION:PT1H
X-Robots-Tag:noindex
X-PUBLISHED-TTL:PT1H
BEGIN:VTIMEZONE
TZID:America/Los_Angeles
BEGIN:DAYLIGHT
TZOFFSETFROM:-0800
TZOFFSETTO:-0700
TZNAME:PDT
DTSTART:20240310T100000
END:DAYLIGHT
BEGIN:STANDARD
TZOFFSETFROM:-0700
TZOFFSETTO:-0800
TZNAME:PST
DTSTART:20241103T090000
END:STANDARD
BEGIN:DAYLIGHT
TZOFFSETFROM:-0800
TZOFFSETTO:-0700
TZNAME:PDT
DTSTART:20250309T100000
END:DAYLIGHT
BEGIN:STANDARD
TZOFFSETFROM:-0700
TZOFFSETTO:-0800
TZNAME:PST
DTSTART:20251102T090000
END:STANDARD
BEGIN:DAYLIGHT
TZOFFSETFROM:-0800
TZOFFSETTO:-0700
TZNAME:PDT
DTSTART:20260308T100000
END:DAYLIGHT
BEGIN:STANDARD
TZOFFSETFROM:-0700
TZOFFSETTO:-0800
TZNAME:PST
DTSTART:20261101T090000
END:STANDARD
END:VTIMEZONE
BEGIN:VTIMEZONE
TZID:America/New_York
BEGIN:DAYLIGHT
TZOFFSETFROM:-0500
TZOFFSETTO:-0400
TZNAME:EDT
DTSTART:20240310T070000
END:DAYLIGHT
BEGIN:STANDARD
TZOFFSETFROM:-0400
TZOFFSETTO:-0500
TZNAME:EST
DTSTART:20241103T060000
END:STANDARD
BEGIN:DAYLIGHT
TZOFFSETFROM:-0500
TZOFFSETTO:-0400
TZNAME:EDT
DTSTART:20250309T070000
END:DAYLIGHT
BEGIN:STANDARD
TZOFFSETFROM:-0400
TZOFFSETTO:-0500
TZNAME:EST
DTSTART:20251102T060000
END:STANDARD
BEGIN:DAYLIGHT
TZOFFSETFROM:-0500
TZOFFSETTO:-0400
TZNAME:EDT
DTSTART:20260308T070000
END:DAYLIGHT
BEGIN:STANDARD
TZOFFSETFROM:-0400
TZOFFSETTO:-0500
TZNAME:EST
DTSTART:20261101T060000
END:STANDARD
END:VTIMEZONE
BEGIN:VEVENT
DTSTART;TZID=America/Los_Angeles:20251108T154500
DTEND;TZID=America/Los_Angeles:20251108T170000
DTSTAMP:20260420T053946
CREATED:20251016T194118Z
LAST-MODIFIED:20251016T194320Z
UID:6630-1762616700-1762621200@fairvega.com
SUMMARY:Eurasia in Translation: Shifting Canons\, Shaping Contexts
DESCRIPTION:I will speak with Naomi Caffee\, Sabrina Jaszi\, and Tatiana Filimonova on this first-ever ALTA panel dedicated to translating the literature of Eurasia. \nThis panel brings together translators working across multiple languages and contexts of Central Asia\, the Caucasus\, Eastern Europe\, Siberia\, and the Russian Far North\, who will share their experiences creating anthologies and working with translations as educators and scholars. They will discuss the challenges of translating\, contextualizing\, analyzing\, and canonizing literary texts from a part of the world that is often ignored in literary markets and university curricula. Speakers include contributors and editors of Tulips in Bloom: An Anthology of Central Asian Literature (Palgrave\, 2024)\, Amanat: Women’s Writing from Kazakhstan (Gaudy Boy\, 2022)\, Reindeer Caravan: An Anthology of Indigenous Literature from Siberia (forthcoming\, Amherst College Press) and the journal Turkoslavia. \n 
URL:https://fairvega.com/event/eurasia-in-translation-shifting-canons-shaping-contexts/
LOCATION:Tucson Marriott University Park\, Tucson\, AZ\, United States
END:VEVENT
BEGIN:VEVENT
DTSTART;TZID=America/New_York:20251120T193000
DTEND;TZID=America/New_York:20251120T210000
DTSTAMP:20260420T053946
CREATED:20250613T192908Z
LAST-MODIFIED:20251001T173500Z
UID:6573-1763667000-1763672400@fairvega.com
SUMMARY:Celebrating Central Asian and Southeast European Literature in Translation with Turkoslavia
DESCRIPTION:I’ll be reading with author Hamid Ismailov and other notable translators and writers at this ASEEES convention ancillary event.
URL:https://fairvega.com/event/celebrating-central-asian-and-southeast-european-literature-in-translation-with-turkoslavia/
LOCATION:Washington Hilton\, Washington\, D.C.
END:VEVENT
END:VCALENDAR