BEGIN:VCALENDAR
VERSION:2.0
PRODID:-//Shelley Fairweather-Vega - ECPv6.15.20//NONSGML v1.0//EN
CALSCALE:GREGORIAN
METHOD:PUBLISH
X-ORIGINAL-URL:https://fairvega.com
X-WR-CALDESC:Events for Shelley Fairweather-Vega
REFRESH-INTERVAL;VALUE=DURATION:PT1H
X-Robots-Tag:noindex
X-PUBLISHED-TTL:PT1H
BEGIN:VTIMEZONE
TZID:America/Los_Angeles
BEGIN:DAYLIGHT
TZOFFSETFROM:-0800
TZOFFSETTO:-0700
TZNAME:PDT
DTSTART:20250309T100000
END:DAYLIGHT
BEGIN:STANDARD
TZOFFSETFROM:-0700
TZOFFSETTO:-0800
TZNAME:PST
DTSTART:20251102T090000
END:STANDARD
BEGIN:DAYLIGHT
TZOFFSETFROM:-0800
TZOFFSETTO:-0700
TZNAME:PDT
DTSTART:20260308T100000
END:DAYLIGHT
BEGIN:STANDARD
TZOFFSETFROM:-0700
TZOFFSETTO:-0800
TZNAME:PST
DTSTART:20261101T090000
END:STANDARD
BEGIN:DAYLIGHT
TZOFFSETFROM:-0800
TZOFFSETTO:-0700
TZNAME:PDT
DTSTART:20270314T100000
END:DAYLIGHT
BEGIN:STANDARD
TZOFFSETFROM:-0700
TZOFFSETTO:-0800
TZNAME:PST
DTSTART:20271107T090000
END:STANDARD
END:VTIMEZONE
BEGIN:VEVENT
DTSTART;TZID=America/Los_Angeles:20260517T150000
DTEND;TZID=America/Los_Angeles:20260517T170000
DTSTAMP:20260425T233320
CREATED:20260423T222634Z
LAST-MODIFIED:20260423T222634Z
UID:6654-1779030000-1779037200@fairvega.com
SUMMARY:The AI Con: Emily M. Bender in Conversation with Shelley Fairweather-Vega
DESCRIPTION:Folio: The Seattle Athenaeum is delighted to welcome two Seattle authors at the intersection of language and technology for a timely conversation on the hype and realities of Artificial Intelligence.  \nDr. Emily M. Bender is a Professor of Linguistics at the University of Washington and co-author of The AI Con: How to Fight Big Tech’s Hype and Create the Future We Want\, a practical guide to seeing through AI hype\, questioning who benefits from it\, and imagining a better path forward. Shelley Fairweather-Vega is the English-language translator of Hamid Ismailov’s We Computers\, a novel in which a French poet builds a computer program capable of analyzing and generating literature\, a story that uncannily anticipates our current moment. \nTogether\, they explore the difference between pattern recognition and meaning\, “ghosts” in the machine\, and what literature\, including a novel written decades ago\, can teach us about the seduction of alleged artificial intelligence.
URL:https://fairvega.com/event/the-ai-con-emily-m-bender-in-conversation-with-shelley-fairweather-vega/
LOCATION:Folio\, the Seattle Athenaeum\, Seattle\, WA
END:VEVENT
END:VCALENDAR